BEGIN:VCALENDAR
VERSION:2.0
PRODID:-//communityshares.net//NONSGML kigkonsult.se iCalcreator 2.30.10//
CALSCALE:GREGORIAN
METHOD:PUBLISH
UID:91e30433-1102-43e6-bdd7-e65c12f3a55e
X-WR-CALDESC:
X-WR-RELCALID:bf52efb5ee8cd9e89d74f650f9e19b4b
X-WR-TIMEZONE:America/New_York
BEGIN:VTIMEZONE
TZID:America/New_York
BEGIN:STANDARD
TZNAME:EST
DTSTART:20251102T020000
TZOFFSETFROM:-0400
TZOFFSETTO:-0500
RDATE:20261101T020000
RDATE:20271107T020000
END:STANDARD
BEGIN:DAYLIGHT
TZNAME:EDT
DTSTART:20260308T020000
TZOFFSETFROM:-0500
TZOFFSETTO:-0400
RDATE:20270314T020000
END:DAYLIGHT
END:VTIMEZONE
BEGIN:VEVENT
UID:461e8006-d63e-45e5-9274-188eb49d8217
DTSTAMP:20260422T080022Z
DESCRIPTION:
DTSTART;TZID=America/New_York:20260723T120000
DTEND;TZID=America/New_York:20260723T133000
LOCATION:Virtual link sent upon registration
SUMMARY:Community Shares' Virtual Open House: Unveiling Membership Benefits
  & Insights (Thursday Session)
END:VEVENT
END:VCALENDAR
